BEGIN:VCALENDAR
VERSION:2.0
PRODID:-//Congregation Ner Tamid - ECPv6.15.20//NONSGML v1.0//EN
CALSCALE:GREGORIAN
METHOD:PUBLISH
X-ORIGINAL-URL:https://nertamidsf.org
X-WR-CALDESC:Events for Congregation Ner Tamid
REFRESH-INTERVAL;VALUE=DURATION:PT1H
X-Robots-Tag:noindex
X-PUBLISHED-TTL:PT1H
BEGIN:VTIMEZONE
TZID:America/Los_Angeles
BEGIN:DAYLIGHT
TZOFFSETFROM:-0800
TZOFFSETTO:-0700
TZNAME:PDT
DTSTART:20250309T100000
END:DAYLIGHT
BEGIN:STANDARD
TZOFFSETFROM:-0700
TZOFFSETTO:-0800
TZNAME:PST
DTSTART:20251102T090000
END:STANDARD
BEGIN:DAYLIGHT
TZOFFSETFROM:-0800
TZOFFSETTO:-0700
TZNAME:PDT
DTSTART:20260308T100000
END:DAYLIGHT
BEGIN:STANDARD
TZOFFSETFROM:-0700
TZOFFSETTO:-0800
TZNAME:PST
DTSTART:20261101T090000
END:STANDARD
BEGIN:DAYLIGHT
TZOFFSETFROM:-0800
TZOFFSETTO:-0700
TZNAME:PDT
DTSTART:20270314T100000
END:DAYLIGHT
BEGIN:STANDARD
TZOFFSETFROM:-0700
TZOFFSETTO:-0800
TZNAME:PST
DTSTART:20271107T090000
END:STANDARD
END:VTIMEZONE
BEGIN:VEVENT
DTSTART;TZID=America/Los_Angeles:20260702T100000
DTEND;TZID=America/Los_Angeles:20260702T113000
DTSTAMP:20260424T120209
CREATED:20190607T190759Z
LAST-MODIFIED:20190607T190759Z
UID:20981-1782986400-1782991800@nertamidsf.org
SUMMARY:Torah Study
DESCRIPTION:Rabbi Shana’s class is lively\, interactive and thought-provoking! We study the weekly Torah portion\, Talmud\, and other Jewish texts. We read the Bible as the revered literature of the Jewish People\, and plumb its depths for the inspiration it continues to offer in our modern age. \nIn person and on zoom
URL:https://nertamidsf.org/event/torah-study-breakfast-club-2-2-3-2026-07-02/
LOCATION:Ner Tamid\, 1250 Quintara Street\, San Francisco\, CA\, 94117
CATEGORIES:Classes
ATTACH;FMTTYPE=image/png:https://nertamidsf.org/wp-content/uploads/2020/09/Screen-Shot-2020-09-20-at-11.40.09-AM-e1639586532574.png
END:VEVENT
BEGIN:VEVENT
DTSTART;TZID=America/Los_Angeles:20260703T180000
DTEND;TZID=America/Los_Angeles:20260703T190000
DTSTAMP:20260424T120209
CREATED:20240625T043811Z
LAST-MODIFIED:20240625T043811Z
UID:20982-1783101600-1783105200@nertamidsf.org
SUMMARY:Friday Evening Shabbat Service
DESCRIPTION:Friday Night Services on YouTube only
URL:https://nertamidsf.org/event/friday-evening-shabbat-service-2026-07-03/
LOCATION:Congregation Ner Tamid\, 1250 Quintara Street\, San Francisco\, CA\, 94116
CATEGORIES:Friday Night,Services
ATTACH;FMTTYPE=image/jpeg:https://nertamidsf.org/wp-content/uploads/2019/03/IMG_8005_0213.jpg
END:VEVENT
BEGIN:VEVENT
DTSTART;TZID=America/Los_Angeles:20260704T093000
DTEND;TZID=America/Los_Angeles:20260704T113000
DTSTAMP:20260424T120209
CREATED:20190607T193721Z
LAST-MODIFIED:20190607T193721Z
UID:20983-1783157400-1783164600@nertamidsf.org
SUMMARY:Shabbat Morning Services
DESCRIPTION:Services are in person and also broadcast life on YouTube.\n \nShabbat morning services are the perfect way to get away from the outside world and find a comfortable sanctuary to observe the Sabbath. Beginning at 9:30 AM\, our services are conducted by Rabbi Shana\, who also reads Torah\, and Cantor Hassid.   Although many of the prayers are recited in Hebrew\, there are several in English and our on screen prayer book is written in both Hebrew and English. However\, one does not need to read or understand Hebrew to feel comfortable at services.  Close your eyes and listen to Cantor Rudy’s beautiful voice and find your own connection to the service; no words are necessary. Together with Rabbi Shana who also has a beautiful voice\, they make the service a musical delight.  Each week we are treated to uplifting\, stimulating and inspiring sermons from Rabbi Shana. With her knowledge and her great sense of humor\, she has a  unique way of making her sermons current and timely while connected to either the Torah or Haftarah portions. \nLink to YouTube
URL:https://nertamidsf.org/event/shaharit-2020-06-20-2020-06-27-2020-07-04-2026-07-04/
CATEGORIES:Saturday Morning,Services
ATTACH;FMTTYPE=image/jpeg:https://nertamidsf.org/wp-content/uploads/2019/09/IMG_7977_0185-e1573493128982.jpg
END:VEVENT
BEGIN:VEVENT
DTSTART;TZID=America/Los_Angeles:20260709T100000
DTEND;TZID=America/Los_Angeles:20260709T113000
DTSTAMP:20260424T120209
CREATED:20190607T190759Z
LAST-MODIFIED:20190607T190759Z
UID:20984-1783591200-1783596600@nertamidsf.org
SUMMARY:Torah Study
DESCRIPTION:Rabbi Shana’s class is lively\, interactive and thought-provoking! We study the weekly Torah portion\, Talmud\, and other Jewish texts. We read the Bible as the revered literature of the Jewish People\, and plumb its depths for the inspiration it continues to offer in our modern age. \nIn person and on zoom
URL:https://nertamidsf.org/event/torah-study-breakfast-club-2-2-3-2026-07-09/
LOCATION:Ner Tamid\, 1250 Quintara Street\, San Francisco\, CA\, 94117
CATEGORIES:Classes
ATTACH;FMTTYPE=image/png:https://nertamidsf.org/wp-content/uploads/2020/09/Screen-Shot-2020-09-20-at-11.40.09-AM-e1639586532574.png
END:VEVENT
BEGIN:VEVENT
DTSTART;TZID=America/Los_Angeles:20260710T180000
DTEND;TZID=America/Los_Angeles:20260710T190000
DTSTAMP:20260424T120209
CREATED:20240625T043811Z
LAST-MODIFIED:20240625T043811Z
UID:20985-1783706400-1783710000@nertamidsf.org
SUMMARY:Friday Evening Shabbat Service
DESCRIPTION:Friday Night Services on YouTube only
URL:https://nertamidsf.org/event/friday-evening-shabbat-service-2026-07-10/
LOCATION:Congregation Ner Tamid\, 1250 Quintara Street\, San Francisco\, CA\, 94116
CATEGORIES:Friday Night,Services
ATTACH;FMTTYPE=image/jpeg:https://nertamidsf.org/wp-content/uploads/2019/03/IMG_8005_0213.jpg
END:VEVENT
BEGIN:VEVENT
DTSTART;TZID=America/Los_Angeles:20260711T093000
DTEND;TZID=America/Los_Angeles:20260711T113000
DTSTAMP:20260424T120209
CREATED:20190607T193721Z
LAST-MODIFIED:20190607T193721Z
UID:20986-1783762200-1783769400@nertamidsf.org
SUMMARY:Shabbat Morning Services
DESCRIPTION:Services are in person and also broadcast life on YouTube.\n \nShabbat morning services are the perfect way to get away from the outside world and find a comfortable sanctuary to observe the Sabbath. Beginning at 9:30 AM\, our services are conducted by Rabbi Shana\, who also reads Torah\, and Cantor Hassid.   Although many of the prayers are recited in Hebrew\, there are several in English and our on screen prayer book is written in both Hebrew and English. However\, one does not need to read or understand Hebrew to feel comfortable at services.  Close your eyes and listen to Cantor Rudy’s beautiful voice and find your own connection to the service; no words are necessary. Together with Rabbi Shana who also has a beautiful voice\, they make the service a musical delight.  Each week we are treated to uplifting\, stimulating and inspiring sermons from Rabbi Shana. With her knowledge and her great sense of humor\, she has a  unique way of making her sermons current and timely while connected to either the Torah or Haftarah portions. \nLink to YouTube
URL:https://nertamidsf.org/event/shaharit-2020-06-20-2020-06-27-2020-07-04-2026-07-11/
CATEGORIES:Saturday Morning,Services
ATTACH;FMTTYPE=image/jpeg:https://nertamidsf.org/wp-content/uploads/2019/09/IMG_7977_0185-e1573493128982.jpg
END:VEVENT
BEGIN:VEVENT
DTSTART;TZID=America/Los_Angeles:20260716T100000
DTEND;TZID=America/Los_Angeles:20260716T113000
DTSTAMP:20260424T120209
CREATED:20190607T190759Z
LAST-MODIFIED:20190607T190759Z
UID:20987-1784196000-1784201400@nertamidsf.org
SUMMARY:Torah Study
DESCRIPTION:Rabbi Shana’s class is lively\, interactive and thought-provoking! We study the weekly Torah portion\, Talmud\, and other Jewish texts. We read the Bible as the revered literature of the Jewish People\, and plumb its depths for the inspiration it continues to offer in our modern age. \nIn person and on zoom
URL:https://nertamidsf.org/event/torah-study-breakfast-club-2-2-3-2026-07-16/
LOCATION:Ner Tamid\, 1250 Quintara Street\, San Francisco\, CA\, 94117
CATEGORIES:Classes
ATTACH;FMTTYPE=image/png:https://nertamidsf.org/wp-content/uploads/2020/09/Screen-Shot-2020-09-20-at-11.40.09-AM-e1639586532574.png
END:VEVENT
BEGIN:VEVENT
DTSTART;TZID=America/Los_Angeles:20260717T180000
DTEND;TZID=America/Los_Angeles:20260717T190000
DTSTAMP:20260424T120209
CREATED:20240625T043811Z
LAST-MODIFIED:20240625T043811Z
UID:20988-1784311200-1784314800@nertamidsf.org
SUMMARY:Friday Evening Shabbat Service
DESCRIPTION:Friday Night Services on YouTube only
URL:https://nertamidsf.org/event/friday-evening-shabbat-service-2026-07-17/
LOCATION:Congregation Ner Tamid\, 1250 Quintara Street\, San Francisco\, CA\, 94116
CATEGORIES:Friday Night,Services
ATTACH;FMTTYPE=image/jpeg:https://nertamidsf.org/wp-content/uploads/2019/03/IMG_8005_0213.jpg
END:VEVENT
BEGIN:VEVENT
DTSTART;TZID=America/Los_Angeles:20260718T093000
DTEND;TZID=America/Los_Angeles:20260718T113000
DTSTAMP:20260424T120209
CREATED:20190607T193721Z
LAST-MODIFIED:20190607T193721Z
UID:20989-1784367000-1784374200@nertamidsf.org
SUMMARY:Shabbat Morning Services
DESCRIPTION:Services are in person and also broadcast life on YouTube.\n \nShabbat morning services are the perfect way to get away from the outside world and find a comfortable sanctuary to observe the Sabbath. Beginning at 9:30 AM\, our services are conducted by Rabbi Shana\, who also reads Torah\, and Cantor Hassid.   Although many of the prayers are recited in Hebrew\, there are several in English and our on screen prayer book is written in both Hebrew and English. However\, one does not need to read or understand Hebrew to feel comfortable at services.  Close your eyes and listen to Cantor Rudy’s beautiful voice and find your own connection to the service; no words are necessary. Together with Rabbi Shana who also has a beautiful voice\, they make the service a musical delight.  Each week we are treated to uplifting\, stimulating and inspiring sermons from Rabbi Shana. With her knowledge and her great sense of humor\, she has a  unique way of making her sermons current and timely while connected to either the Torah or Haftarah portions. \nLink to YouTube
URL:https://nertamidsf.org/event/shaharit-2020-06-20-2020-06-27-2020-07-04-2026-07-18/
CATEGORIES:Saturday Morning,Services
ATTACH;FMTTYPE=image/jpeg:https://nertamidsf.org/wp-content/uploads/2019/09/IMG_7977_0185-e1573493128982.jpg
END:VEVENT
BEGIN:VEVENT
DTSTART;TZID=America/Los_Angeles:20260723T100000
DTEND;TZID=America/Los_Angeles:20260723T113000
DTSTAMP:20260424T120209
CREATED:20190607T190759Z
LAST-MODIFIED:20190607T190759Z
UID:20991-1784800800-1784806200@nertamidsf.org
SUMMARY:Torah Study
DESCRIPTION:Rabbi Shana’s class is lively\, interactive and thought-provoking! We study the weekly Torah portion\, Talmud\, and other Jewish texts. We read the Bible as the revered literature of the Jewish People\, and plumb its depths for the inspiration it continues to offer in our modern age. \nIn person and on zoom
URL:https://nertamidsf.org/event/torah-study-breakfast-club-2-2-3-2026-07-23/
LOCATION:Ner Tamid\, 1250 Quintara Street\, San Francisco\, CA\, 94117
CATEGORIES:Classes
ATTACH;FMTTYPE=image/png:https://nertamidsf.org/wp-content/uploads/2020/09/Screen-Shot-2020-09-20-at-11.40.09-AM-e1639586532574.png
END:VEVENT
BEGIN:VEVENT
DTSTART;TZID=America/Los_Angeles:20260724T180000
DTEND;TZID=America/Los_Angeles:20260724T190000
DTSTAMP:20260424T120209
CREATED:20240625T043811Z
LAST-MODIFIED:20240625T043811Z
UID:20992-1784916000-1784919600@nertamidsf.org
SUMMARY:Friday Evening Shabbat Service
DESCRIPTION:Friday Night Services on YouTube only
URL:https://nertamidsf.org/event/friday-evening-shabbat-service-2026-07-24/
LOCATION:Congregation Ner Tamid\, 1250 Quintara Street\, San Francisco\, CA\, 94116
CATEGORIES:Friday Night,Services
ATTACH;FMTTYPE=image/jpeg:https://nertamidsf.org/wp-content/uploads/2019/03/IMG_8005_0213.jpg
END:VEVENT
BEGIN:VEVENT
DTSTART;TZID=America/Los_Angeles:20260725T093000
DTEND;TZID=America/Los_Angeles:20260725T113000
DTSTAMP:20260424T120209
CREATED:20190607T193721Z
LAST-MODIFIED:20190607T193721Z
UID:20994-1784971800-1784979000@nertamidsf.org
SUMMARY:Shabbat Morning Services
DESCRIPTION:Services are in person and also broadcast life on YouTube.\n \nShabbat morning services are the perfect way to get away from the outside world and find a comfortable sanctuary to observe the Sabbath. Beginning at 9:30 AM\, our services are conducted by Rabbi Shana\, who also reads Torah\, and Cantor Hassid.   Although many of the prayers are recited in Hebrew\, there are several in English and our on screen prayer book is written in both Hebrew and English. However\, one does not need to read or understand Hebrew to feel comfortable at services.  Close your eyes and listen to Cantor Rudy’s beautiful voice and find your own connection to the service; no words are necessary. Together with Rabbi Shana who also has a beautiful voice\, they make the service a musical delight.  Each week we are treated to uplifting\, stimulating and inspiring sermons from Rabbi Shana. With her knowledge and her great sense of humor\, she has a  unique way of making her sermons current and timely while connected to either the Torah or Haftarah portions. \nLink to YouTube
URL:https://nertamidsf.org/event/shaharit-2020-06-20-2020-06-27-2020-07-04-2026-07-25/
CATEGORIES:Saturday Morning,Services
ATTACH;FMTTYPE=image/jpeg:https://nertamidsf.org/wp-content/uploads/2019/09/IMG_7977_0185-e1573493128982.jpg
END:VEVENT
BEGIN:VEVENT
DTSTART;TZID=America/Los_Angeles:20260730T100000
DTEND;TZID=America/Los_Angeles:20260730T113000
DTSTAMP:20260424T120209
CREATED:20190607T190759Z
LAST-MODIFIED:20190607T190759Z
UID:21002-1785405600-1785411000@nertamidsf.org
SUMMARY:Torah Study
DESCRIPTION:Rabbi Shana’s class is lively\, interactive and thought-provoking! We study the weekly Torah portion\, Talmud\, and other Jewish texts. We read the Bible as the revered literature of the Jewish People\, and plumb its depths for the inspiration it continues to offer in our modern age. \nIn person and on zoom
URL:https://nertamidsf.org/event/torah-study-breakfast-club-2-2-3-2026-07-30/
LOCATION:Ner Tamid\, 1250 Quintara Street\, San Francisco\, CA\, 94117
CATEGORIES:Classes
ATTACH;FMTTYPE=image/png:https://nertamidsf.org/wp-content/uploads/2020/09/Screen-Shot-2020-09-20-at-11.40.09-AM-e1639586532574.png
END:VEVENT
BEGIN:VEVENT
DTSTART;TZID=America/Los_Angeles:20260731T180000
DTEND;TZID=America/Los_Angeles:20260731T190000
DTSTAMP:20260424T120209
CREATED:20240625T043811Z
LAST-MODIFIED:20240625T043811Z
UID:21003-1785520800-1785524400@nertamidsf.org
SUMMARY:Friday Evening Shabbat Service
DESCRIPTION:Friday Night Services on YouTube only
URL:https://nertamidsf.org/event/friday-evening-shabbat-service-2026-07-31/
LOCATION:Congregation Ner Tamid\, 1250 Quintara Street\, San Francisco\, CA\, 94116
CATEGORIES:Friday Night,Services
ATTACH;FMTTYPE=image/jpeg:https://nertamidsf.org/wp-content/uploads/2019/03/IMG_8005_0213.jpg
END:VEVENT
END:VCALENDAR