BEGIN:VCALENDAR
VERSION:2.0
PRODID:-//Congregation Ner Tamid - ECPv6.15.20//NONSGML v1.0//EN
CALSCALE:GREGORIAN
METHOD:PUBLISH
X-WR-CALNAME:Congregation Ner Tamid
X-ORIGINAL-URL:https://nertamidsf.org
X-WR-CALDESC:Events for Congregation Ner Tamid
REFRESH-INTERVAL;VALUE=DURATION:PT1H
X-Robots-Tag:noindex
X-PUBLISHED-TTL:PT1H
BEGIN:VTIMEZONE
TZID:America/Los_Angeles
BEGIN:DAYLIGHT
TZOFFSETFROM:-0800
TZOFFSETTO:-0700
TZNAME:PDT
DTSTART:20240310T100000
END:DAYLIGHT
BEGIN:STANDARD
TZOFFSETFROM:-0700
TZOFFSETTO:-0800
TZNAME:PST
DTSTART:20241103T090000
END:STANDARD
BEGIN:DAYLIGHT
TZOFFSETFROM:-0800
TZOFFSETTO:-0700
TZNAME:PDT
DTSTART:20250309T100000
END:DAYLIGHT
BEGIN:STANDARD
TZOFFSETFROM:-0700
TZOFFSETTO:-0800
TZNAME:PST
DTSTART:20251102T090000
END:STANDARD
BEGIN:DAYLIGHT
TZOFFSETFROM:-0800
TZOFFSETTO:-0700
TZNAME:PDT
DTSTART:20260308T100000
END:DAYLIGHT
BEGIN:STANDARD
TZOFFSETFROM:-0700
TZOFFSETTO:-0800
TZNAME:PST
DTSTART:20261101T090000
END:STANDARD
END:VTIMEZONE
BEGIN:VEVENT
DTSTART;TZID=America/Los_Angeles:20251002T100000
DTEND;TZID=America/Los_Angeles:20251002T113000
DTSTAMP:20260424T162920
CREATED:20190607T190759Z
LAST-MODIFIED:20190607T190759Z
UID:20479-1759399200-1759404600@nertamidsf.org
SUMMARY:Torah Study
DESCRIPTION:Rabbi Shana’s class is lively\, interactive and thought-provoking! We study the weekly Torah portion\, Talmud\, and other Jewish texts. We read the Bible as the revered literature of the Jewish People\, and plumb its depths for the inspiration it continues to offer in our modern age. \nIn person and on zoom
URL:https://nertamidsf.org/event/torah-study-breakfast-club-2-2-3-2025-10-02/
LOCATION:Ner Tamid\, 1250 Quintara Street\, San Francisco\, CA\, 94117
CATEGORIES:Classes
ATTACH;FMTTYPE=image/png:https://nertamidsf.org/wp-content/uploads/2020/09/Screen-Shot-2020-09-20-at-11.40.09-AM-e1639586532574.png
END:VEVENT
BEGIN:VEVENT
DTSTART;TZID=America/Los_Angeles:20251003T180000
DTEND;TZID=America/Los_Angeles:20251003T190000
DTSTAMP:20260424T162920
CREATED:20240625T043811Z
LAST-MODIFIED:20240625T044028Z
UID:20830-1759514400-1759518000@nertamidsf.org
SUMMARY:Friday Evening Shabbat Service
DESCRIPTION:Friday Night Services on YouTube only
URL:https://nertamidsf.org/event/friday-evening-shabbat-service-2025-10-03/
LOCATION:Congregation Ner Tamid\, 1250 Quintara Street\, San Francisco\, CA\, 94116
CATEGORIES:Friday Night,Services
ATTACH;FMTTYPE=image/jpeg:https://nertamidsf.org/wp-content/uploads/2019/03/IMG_8005_0213.jpg
END:VEVENT
BEGIN:VEVENT
DTSTART;TZID=America/Los_Angeles:20251004T093000
DTEND;TZID=America/Los_Angeles:20251004T113000
DTSTAMP:20260424T162920
CREATED:20190607T193721Z
LAST-MODIFIED:20240625T042222Z
UID:20068-1759570200-1759577400@nertamidsf.org
SUMMARY:Shabbat Morning Services
DESCRIPTION:Services are in person and also broadcast life on YouTube.\n \nShabbat morning services are the perfect way to get away from the outside world and find a comfortable sanctuary to observe the Sabbath. Beginning at 9:30 AM\, our services are conducted by Rabbi Shana\, who also reads Torah\, and Cantor Hassid.   Although many of the prayers are recited in Hebrew\, there are several in English and our on screen prayer book is written in both Hebrew and English. However\, one does not need to read or understand Hebrew to feel comfortable at services.  Close your eyes and listen to Cantor Rudy’s beautiful voice and find your own connection to the service; no words are necessary. Together with Rabbi Shana who also has a beautiful voice\, they make the service a musical delight.  Each week we are treated to uplifting\, stimulating and inspiring sermons from Rabbi Shana. With her knowledge and her great sense of humor\, she has a  unique way of making her sermons current and timely while connected to either the Torah or Haftarah portions. \nLink to YouTube
URL:https://nertamidsf.org/event/shaharit-2020-06-20-2020-06-27-2020-07-04-2025-10-04/
CATEGORIES:Saturday Morning,Services
ATTACH;FMTTYPE=image/jpeg:https://nertamidsf.org/wp-content/uploads/2019/09/IMG_7977_0185-e1573493128982.jpg
END:VEVENT
BEGIN:VEVENT
DTSTART;TZID=America/Los_Angeles:20251009T100000
DTEND;TZID=America/Los_Angeles:20251009T113000
DTSTAMP:20260424T162920
CREATED:20190607T190759Z
LAST-MODIFIED:20190607T190759Z
UID:20480-1760004000-1760009400@nertamidsf.org
SUMMARY:Torah Study
DESCRIPTION:Rabbi Shana’s class is lively\, interactive and thought-provoking! We study the weekly Torah portion\, Talmud\, and other Jewish texts. We read the Bible as the revered literature of the Jewish People\, and plumb its depths for the inspiration it continues to offer in our modern age. \nIn person and on zoom
URL:https://nertamidsf.org/event/torah-study-breakfast-club-2-2-3-2025-10-09/
LOCATION:Ner Tamid\, 1250 Quintara Street\, San Francisco\, CA\, 94117
CATEGORIES:Classes
ATTACH;FMTTYPE=image/png:https://nertamidsf.org/wp-content/uploads/2020/09/Screen-Shot-2020-09-20-at-11.40.09-AM-e1639586532574.png
END:VEVENT
BEGIN:VEVENT
DTSTART;TZID=America/Los_Angeles:20251010T180000
DTEND;TZID=America/Los_Angeles:20251010T190000
DTSTAMP:20260424T162920
CREATED:20240625T043811Z
LAST-MODIFIED:20240625T044028Z
UID:20831-1760119200-1760122800@nertamidsf.org
SUMMARY:Friday Evening Shabbat Service
DESCRIPTION:Friday Night Services on YouTube only
URL:https://nertamidsf.org/event/friday-evening-shabbat-service-2025-10-10/
LOCATION:Congregation Ner Tamid\, 1250 Quintara Street\, San Francisco\, CA\, 94116
CATEGORIES:Friday Night,Services
ATTACH;FMTTYPE=image/jpeg:https://nertamidsf.org/wp-content/uploads/2019/03/IMG_8005_0213.jpg
END:VEVENT
BEGIN:VEVENT
DTSTART;TZID=America/Los_Angeles:20251011T093000
DTEND;TZID=America/Los_Angeles:20251011T113000
DTSTAMP:20260424T162920
CREATED:20190607T193721Z
LAST-MODIFIED:20240625T042223Z
UID:20071-1760175000-1760182200@nertamidsf.org
SUMMARY:Shabbat Morning Services
DESCRIPTION:Services are in person and also broadcast life on YouTube.\n \nShabbat morning services are the perfect way to get away from the outside world and find a comfortable sanctuary to observe the Sabbath. Beginning at 9:30 AM\, our services are conducted by Rabbi Shana\, who also reads Torah\, and Cantor Hassid.   Although many of the prayers are recited in Hebrew\, there are several in English and our on screen prayer book is written in both Hebrew and English. However\, one does not need to read or understand Hebrew to feel comfortable at services.  Close your eyes and listen to Cantor Rudy’s beautiful voice and find your own connection to the service; no words are necessary. Together with Rabbi Shana who also has a beautiful voice\, they make the service a musical delight.  Each week we are treated to uplifting\, stimulating and inspiring sermons from Rabbi Shana. With her knowledge and her great sense of humor\, she has a  unique way of making her sermons current and timely while connected to either the Torah or Haftarah portions. \nLink to YouTube
URL:https://nertamidsf.org/event/shaharit-2020-06-20-2020-06-27-2020-07-04-2025-10-11/
CATEGORIES:Saturday Morning,Services
ATTACH;FMTTYPE=image/jpeg:https://nertamidsf.org/wp-content/uploads/2019/09/IMG_7977_0185-e1573493128982.jpg
END:VEVENT
BEGIN:VEVENT
DTSTART;TZID=America/Los_Angeles:20251016T100000
DTEND;TZID=America/Los_Angeles:20251016T113000
DTSTAMP:20260424T162920
CREATED:20190607T190759Z
LAST-MODIFIED:20190607T190759Z
UID:20481-1760608800-1760614200@nertamidsf.org
SUMMARY:Torah Study
DESCRIPTION:Rabbi Shana’s class is lively\, interactive and thought-provoking! We study the weekly Torah portion\, Talmud\, and other Jewish texts. We read the Bible as the revered literature of the Jewish People\, and plumb its depths for the inspiration it continues to offer in our modern age. \nIn person and on zoom
URL:https://nertamidsf.org/event/torah-study-breakfast-club-2-2-3-2025-10-16/
LOCATION:Ner Tamid\, 1250 Quintara Street\, San Francisco\, CA\, 94117
CATEGORIES:Classes
ATTACH;FMTTYPE=image/png:https://nertamidsf.org/wp-content/uploads/2020/09/Screen-Shot-2020-09-20-at-11.40.09-AM-e1639586532574.png
END:VEVENT
BEGIN:VEVENT
DTSTART;TZID=America/Los_Angeles:20251017T180000
DTEND;TZID=America/Los_Angeles:20251017T190000
DTSTAMP:20260424T162920
CREATED:20240625T043811Z
LAST-MODIFIED:20240625T044028Z
UID:20832-1760724000-1760727600@nertamidsf.org
SUMMARY:Friday Evening Shabbat Service
DESCRIPTION:Friday Night Services on YouTube only
URL:https://nertamidsf.org/event/friday-evening-shabbat-service-2025-10-17/
LOCATION:Congregation Ner Tamid\, 1250 Quintara Street\, San Francisco\, CA\, 94116
CATEGORIES:Friday Night,Services
ATTACH;FMTTYPE=image/jpeg:https://nertamidsf.org/wp-content/uploads/2019/03/IMG_8005_0213.jpg
END:VEVENT
BEGIN:VEVENT
DTSTART;TZID=America/Los_Angeles:20251018T093000
DTEND;TZID=America/Los_Angeles:20251018T113000
DTSTAMP:20260424T162920
CREATED:20190607T193721Z
LAST-MODIFIED:20240625T042224Z
UID:20073-1760779800-1760787000@nertamidsf.org
SUMMARY:Shabbat Morning Services
DESCRIPTION:Services are in person and also broadcast life on YouTube.\n \nShabbat morning services are the perfect way to get away from the outside world and find a comfortable sanctuary to observe the Sabbath. Beginning at 9:30 AM\, our services are conducted by Rabbi Shana\, who also reads Torah\, and Cantor Hassid.   Although many of the prayers are recited in Hebrew\, there are several in English and our on screen prayer book is written in both Hebrew and English. However\, one does not need to read or understand Hebrew to feel comfortable at services.  Close your eyes and listen to Cantor Rudy’s beautiful voice and find your own connection to the service; no words are necessary. Together with Rabbi Shana who also has a beautiful voice\, they make the service a musical delight.  Each week we are treated to uplifting\, stimulating and inspiring sermons from Rabbi Shana. With her knowledge and her great sense of humor\, she has a  unique way of making her sermons current and timely while connected to either the Torah or Haftarah portions. \nLink to YouTube
URL:https://nertamidsf.org/event/shaharit-2020-06-20-2020-06-27-2020-07-04-2025-10-18/
CATEGORIES:Saturday Morning,Services
ATTACH;FMTTYPE=image/jpeg:https://nertamidsf.org/wp-content/uploads/2019/09/IMG_7977_0185-e1573493128982.jpg
END:VEVENT
BEGIN:VEVENT
DTSTART;TZID=America/Los_Angeles:20251023T100000
DTEND;TZID=America/Los_Angeles:20251023T113000
DTSTAMP:20260424T162920
CREATED:20190607T190759Z
LAST-MODIFIED:20190607T190759Z
UID:20482-1761213600-1761219000@nertamidsf.org
SUMMARY:Torah Study
DESCRIPTION:Rabbi Shana’s class is lively\, interactive and thought-provoking! We study the weekly Torah portion\, Talmud\, and other Jewish texts. We read the Bible as the revered literature of the Jewish People\, and plumb its depths for the inspiration it continues to offer in our modern age. \nIn person and on zoom
URL:https://nertamidsf.org/event/torah-study-breakfast-club-2-2-3-2025-10-23/
LOCATION:Ner Tamid\, 1250 Quintara Street\, San Francisco\, CA\, 94117
CATEGORIES:Classes
ATTACH;FMTTYPE=image/png:https://nertamidsf.org/wp-content/uploads/2020/09/Screen-Shot-2020-09-20-at-11.40.09-AM-e1639586532574.png
END:VEVENT
BEGIN:VEVENT
DTSTART;TZID=America/Los_Angeles:20251024T180000
DTEND;TZID=America/Los_Angeles:20251024T190000
DTSTAMP:20260424T162920
CREATED:20240625T043811Z
LAST-MODIFIED:20240625T044029Z
UID:20833-1761328800-1761332400@nertamidsf.org
SUMMARY:Friday Evening Shabbat Service
DESCRIPTION:Friday Night Services on YouTube only
URL:https://nertamidsf.org/event/friday-evening-shabbat-service-2025-10-24/
LOCATION:Congregation Ner Tamid\, 1250 Quintara Street\, San Francisco\, CA\, 94116
CATEGORIES:Friday Night,Services
ATTACH;FMTTYPE=image/jpeg:https://nertamidsf.org/wp-content/uploads/2019/03/IMG_8005_0213.jpg
END:VEVENT
BEGIN:VEVENT
DTSTART;TZID=America/Los_Angeles:20251025T093000
DTEND;TZID=America/Los_Angeles:20251025T113000
DTSTAMP:20260424T162920
CREATED:20190607T193721Z
LAST-MODIFIED:20240625T042225Z
UID:20076-1761384600-1761391800@nertamidsf.org
SUMMARY:Shabbat Morning Services
DESCRIPTION:Services are in person and also broadcast life on YouTube.\n \nShabbat morning services are the perfect way to get away from the outside world and find a comfortable sanctuary to observe the Sabbath. Beginning at 9:30 AM\, our services are conducted by Rabbi Shana\, who also reads Torah\, and Cantor Hassid.   Although many of the prayers are recited in Hebrew\, there are several in English and our on screen prayer book is written in both Hebrew and English. However\, one does not need to read or understand Hebrew to feel comfortable at services.  Close your eyes and listen to Cantor Rudy’s beautiful voice and find your own connection to the service; no words are necessary. Together with Rabbi Shana who also has a beautiful voice\, they make the service a musical delight.  Each week we are treated to uplifting\, stimulating and inspiring sermons from Rabbi Shana. With her knowledge and her great sense of humor\, she has a  unique way of making her sermons current and timely while connected to either the Torah or Haftarah portions. \nLink to YouTube
URL:https://nertamidsf.org/event/shaharit-2020-06-20-2020-06-27-2020-07-04-2025-10-25/
CATEGORIES:Saturday Morning,Services
ATTACH;FMTTYPE=image/jpeg:https://nertamidsf.org/wp-content/uploads/2019/09/IMG_7977_0185-e1573493128982.jpg
END:VEVENT
BEGIN:VEVENT
DTSTART;TZID=America/Los_Angeles:20251030T100000
DTEND;TZID=America/Los_Angeles:20251030T113000
DTSTAMP:20260424T162920
CREATED:20190607T190759Z
LAST-MODIFIED:20190607T190759Z
UID:20483-1761818400-1761823800@nertamidsf.org
SUMMARY:Torah Study
DESCRIPTION:Rabbi Shana’s class is lively\, interactive and thought-provoking! We study the weekly Torah portion\, Talmud\, and other Jewish texts. We read the Bible as the revered literature of the Jewish People\, and plumb its depths for the inspiration it continues to offer in our modern age. \nIn person and on zoom
URL:https://nertamidsf.org/event/torah-study-breakfast-club-2-2-3-2025-10-30/
LOCATION:Ner Tamid\, 1250 Quintara Street\, San Francisco\, CA\, 94117
CATEGORIES:Classes
ATTACH;FMTTYPE=image/png:https://nertamidsf.org/wp-content/uploads/2020/09/Screen-Shot-2020-09-20-at-11.40.09-AM-e1639586532574.png
END:VEVENT
BEGIN:VEVENT
DTSTART;TZID=America/Los_Angeles:20251031T180000
DTEND;TZID=America/Los_Angeles:20251031T190000
DTSTAMP:20260424T162920
CREATED:20240625T043811Z
LAST-MODIFIED:20240625T044029Z
UID:20834-1761933600-1761937200@nertamidsf.org
SUMMARY:Friday Evening Shabbat Service
DESCRIPTION:Friday Night Services on YouTube only
URL:https://nertamidsf.org/event/friday-evening-shabbat-service-2025-10-31/
LOCATION:Congregation Ner Tamid\, 1250 Quintara Street\, San Francisco\, CA\, 94116
CATEGORIES:Friday Night,Services
ATTACH;FMTTYPE=image/jpeg:https://nertamidsf.org/wp-content/uploads/2019/03/IMG_8005_0213.jpg
END:VEVENT
END:VCALENDAR