BEGIN:VCALENDAR
VERSION:2.0
PRODID:-//Congregation Ner Tamid - ECPv6.15.20//NONSGML v1.0//EN
CALSCALE:GREGORIAN
METHOD:PUBLISH
X-WR-CALNAME:Congregation Ner Tamid
X-ORIGINAL-URL:https://nertamidsf.org
X-WR-CALDESC:Events for Congregation Ner Tamid
REFRESH-INTERVAL;VALUE=DURATION:PT1H
X-Robots-Tag:noindex
X-PUBLISHED-TTL:PT1H
BEGIN:VTIMEZONE
TZID:America/Los_Angeles
BEGIN:DAYLIGHT
TZOFFSETFROM:-0800
TZOFFSETTO:-0700
TZNAME:PDT
DTSTART:20240310T100000
END:DAYLIGHT
BEGIN:STANDARD
TZOFFSETFROM:-0700
TZOFFSETTO:-0800
TZNAME:PST
DTSTART:20241103T090000
END:STANDARD
BEGIN:DAYLIGHT
TZOFFSETFROM:-0800
TZOFFSETTO:-0700
TZNAME:PDT
DTSTART:20250309T100000
END:DAYLIGHT
BEGIN:STANDARD
TZOFFSETFROM:-0700
TZOFFSETTO:-0800
TZNAME:PST
DTSTART:20251102T090000
END:STANDARD
BEGIN:DAYLIGHT
TZOFFSETFROM:-0800
TZOFFSETTO:-0700
TZNAME:PDT
DTSTART:20260308T100000
END:DAYLIGHT
BEGIN:STANDARD
TZOFFSETFROM:-0700
TZOFFSETTO:-0800
TZNAME:PST
DTSTART:20261101T090000
END:STANDARD
END:VTIMEZONE
BEGIN:VEVENT
DTSTART;TZID=America/Los_Angeles:20250508T100000
DTEND;TZID=America/Los_Angeles:20250508T113000
DTSTAMP:20260425T040300
CREATED:20190607T190759Z
LAST-MODIFIED:20190607T190759Z
UID:20458-1746698400-1746703800@nertamidsf.org
SUMMARY:Torah Study
DESCRIPTION:Rabbi Shana’s class is lively\, interactive and thought-provoking! We study the weekly Torah portion\, Talmud\, and other Jewish texts. We read the Bible as the revered literature of the Jewish People\, and plumb its depths for the inspiration it continues to offer in our modern age. \nIn person and on zoom
URL:https://nertamidsf.org/event/torah-study-breakfast-club-2-2-3-2025-05-08/
LOCATION:Ner Tamid\, 1250 Quintara Street\, San Francisco\, CA\, 94117
CATEGORIES:Classes
ATTACH;FMTTYPE=image/png:https://nertamidsf.org/wp-content/uploads/2020/09/Screen-Shot-2020-09-20-at-11.40.09-AM-e1639586532574.png
END:VEVENT
END:VCALENDAR