BEGIN:VCALENDAR
VERSION:2.0
PRODID:-//Congregation Ner Tamid - ECPv6.15.20//NONSGML v1.0//EN
CALSCALE:GREGORIAN
METHOD:PUBLISH
X-ORIGINAL-URL:https://nertamidsf.org
X-WR-CALDESC:Events for Congregation Ner Tamid
REFRESH-INTERVAL;VALUE=DURATION:PT1H
X-Robots-Tag:noindex
X-PUBLISHED-TTL:PT1H
BEGIN:VTIMEZONE
TZID:America/Los_Angeles
BEGIN:DAYLIGHT
TZOFFSETFROM:-0800
TZOFFSETTO:-0700
TZNAME:PDT
DTSTART:20240310T100000
END:DAYLIGHT
BEGIN:STANDARD
TZOFFSETFROM:-0700
TZOFFSETTO:-0800
TZNAME:PST
DTSTART:20241103T090000
END:STANDARD
BEGIN:DAYLIGHT
TZOFFSETFROM:-0800
TZOFFSETTO:-0700
TZNAME:PDT
DTSTART:20250309T100000
END:DAYLIGHT
BEGIN:STANDARD
TZOFFSETFROM:-0700
TZOFFSETTO:-0800
TZNAME:PST
DTSTART:20251102T090000
END:STANDARD
BEGIN:DAYLIGHT
TZOFFSETFROM:-0800
TZOFFSETTO:-0700
TZNAME:PDT
DTSTART:20260308T100000
END:DAYLIGHT
BEGIN:STANDARD
TZOFFSETFROM:-0700
TZOFFSETTO:-0800
TZNAME:PST
DTSTART:20261101T090000
END:STANDARD
END:VTIMEZONE
BEGIN:VEVENT
DTSTART;TZID=America/Los_Angeles:20250222T093000
DTEND;TZID=America/Los_Angeles:20250222T113000
DTSTAMP:20260425T064039
CREATED:20190607T193721Z
LAST-MODIFIED:20250219T002827Z
UID:19465-1740216600-1740223800@nertamidsf.org
SUMMARY:Shabbat Morning Services
DESCRIPTION:Services today are on YouTube only\n \nShabbat morning services are the perfect way to get away from the outside world and find a comfortable sanctuary to observe the Sabbath. Beginning at 9:30 AM\, our services are conducted by Rabbi Shana\, who also reads Torah\, and Cantor Hassid.   Although many of the prayers are recited in Hebrew\, there are several in English and our on screen prayer book is written in both Hebrew and English. However\, one does not need to read or understand Hebrew to feel comfortable at services.  Close your eyes and listen to Cantor Rudy’s beautiful voice and find your own connection to the service; no words are necessary. Together with Rabbi Shana who also has a beautiful voice\, they make the service a musical delight.  Each week we are treated to uplifting\, stimulating and inspiring sermons from Rabbi Shana. With her knowledge and her great sense of humor\, she has a  unique way of making her sermons current and timely while connected to either the Torah or Haftarah portions. \nLink to YouTube
URL:https://nertamidsf.org/event/shaharit-2020-06-20-2020-06-27-2020-07-04-2025-02-22/
CATEGORIES:Saturday Morning,Services
ATTACH;FMTTYPE=image/jpeg:https://nertamidsf.org/wp-content/uploads/2019/09/IMG_7977_0185-e1573493128982.jpg
END:VEVENT
END:VCALENDAR